BEGIN:VCALENDAR
VERSION:2.0
PRODID:-//NBM - ECPv6.15.20//NONSGML v1.0//EN
CALSCALE:GREGORIAN
METHOD:PUBLISH
X-WR-CALNAME:NBM
X-ORIGINAL-URL:https://www.nbm.at
X-WR-CALDESC:Veranstaltungen für NBM
REFRESH-INTERVAL;VALUE=DURATION:PT1H
X-Robots-Tag:noindex
X-PUBLISHED-TTL:PT1H
BEGIN:VTIMEZONE
TZID:Europe/Vienna
BEGIN:DAYLIGHT
TZOFFSETFROM:+0100
TZOFFSETTO:+0200
TZNAME:CEST
DTSTART:20240331T010000
END:DAYLIGHT
BEGIN:STANDARD
TZOFFSETFROM:+0200
TZOFFSETTO:+0100
TZNAME:CET
DTSTART:20241027T010000
END:STANDARD
BEGIN:DAYLIGHT
TZOFFSETFROM:+0100
TZOFFSETTO:+0200
TZNAME:CEST
DTSTART:20250330T010000
END:DAYLIGHT
BEGIN:STANDARD
TZOFFSETFROM:+0200
TZOFFSETTO:+0100
TZNAME:CET
DTSTART:20251026T010000
END:STANDARD
BEGIN:DAYLIGHT
TZOFFSETFROM:+0100
TZOFFSETTO:+0200
TZNAME:CEST
DTSTART:20260329T010000
END:DAYLIGHT
BEGIN:STANDARD
TZOFFSETFROM:+0200
TZOFFSETTO:+0100
TZNAME:CET
DTSTART:20261025T010000
END:STANDARD
END:VTIMEZONE
BEGIN:VEVENT
DTSTART;VALUE=DATE:20250404
DTEND;VALUE=DATE:20250405
DTSTAMP:20260423T060040
CREATED:20241214T084540Z
LAST-MODIFIED:20241214T084617Z
UID:1792-1743724800-1743811199@www.nbm.at
SUMMARY:Privatveranstaltung
DESCRIPTION:
URL:https://www.nbm.at/event/privatveranstaltung-21/
LOCATION:K.Ö.St.V. Nibelungia Melk\, Nibelungenturm\, J. Haidvogel-Gasse 6\, Melk\, 3390\, Österreich
END:VEVENT
BEGIN:VEVENT
DTSTART;TZID=Europe/Vienna:20250405T193000
DTEND;TZID=Europe/Vienna:20250405T233000
DTSTAMP:20260423T060040
CREATED:20250212T155522Z
LAST-MODIFIED:20250226T130844Z
UID:1905-1743881400-1743895800@www.nbm.at
SUMMARY:Frühlingskreuzkneipe (in Tracht)
DESCRIPTION:mit ÖCV Verbindung Floriana St. Pölten
URL:https://www.nbm.at/event/fruehlingskneipe-in-tracht/
END:VEVENT
BEGIN:VEVENT
DTSTART;VALUE=DATE:20250419
DTEND;VALUE=DATE:20250420
DTSTAMP:20260423T060040
CREATED:20250226T130932Z
LAST-MODIFIED:20250226T130932Z
UID:1940-1745020800-1745107199@www.nbm.at
SUMMARY:Osternachtsmesse
DESCRIPTION:
URL:https://www.nbm.at/event/osternachtsmesse-4/
LOCATION:K.Ö.St.V. Nibelungia Melk\, Nibelungenturm\, J. Haidvogel-Gasse 6\, Melk\, 3390\, Österreich
END:VEVENT
BEGIN:VEVENT
DTSTART;TZID=Europe/Vienna:20250422T190000
DTEND;TZID=Europe/Vienna:20250422T233000
DTSTAMP:20260423T060040
CREATED:20250216T151302Z
LAST-MODIFIED:20250216T151302Z
UID:1930-1745348400-1745364600@www.nbm.at
SUMMARY:Zirkelveranstaltung: 10 Jahre Zirkel-Weinverkostung
DESCRIPTION:
URL:https://www.nbm.at/event/zirkelveranstaltung-10-jahre-zirkel-weinverkostung/
LOCATION:K.Ö.St.V. Nibelungia Melk\, Nibelungenturm\, J. Haidvogel-Gasse 6\, Melk\, 3390\, Österreich
END:VEVENT
BEGIN:VEVENT
DTSTART;TZID=Europe/Vienna:20250425T190000
DTEND;TZID=Europe/Vienna:20250425T233000
DTSTAMP:20260423T060040
CREATED:20250226T131021Z
LAST-MODIFIED:20250226T131021Z
UID:1943-1745607600-1745623800@www.nbm.at
SUMMARY:Fuxenkneipe
DESCRIPTION:
URL:https://www.nbm.at/event/fuxenkneipe/
LOCATION:K.Ö.St.V. Nibelungia Melk\, Nibelungenturm\, J. Haidvogel-Gasse 6\, Melk\, 3390\, Österreich
END:VEVENT
END:VCALENDAR