BEGIN:VCALENDAR
VERSION:2.0
PRODID:-//NBM - ECPv6.15.20//NONSGML v1.0//EN
CALSCALE:GREGORIAN
METHOD:PUBLISH
X-WR-CALNAME:NBM
X-ORIGINAL-URL:https://www.nbm.at
X-WR-CALDESC:Veranstaltungen für NBM
REFRESH-INTERVAL;VALUE=DURATION:PT1H
X-Robots-Tag:noindex
X-PUBLISHED-TTL:PT1H
BEGIN:VTIMEZONE
TZID:Europe/Vienna
BEGIN:DAYLIGHT
TZOFFSETFROM:+0100
TZOFFSETTO:+0200
TZNAME:CEST
DTSTART:20240331T010000
END:DAYLIGHT
BEGIN:STANDARD
TZOFFSETFROM:+0200
TZOFFSETTO:+0100
TZNAME:CET
DTSTART:20241027T010000
END:STANDARD
BEGIN:DAYLIGHT
TZOFFSETFROM:+0100
TZOFFSETTO:+0200
TZNAME:CEST
DTSTART:20250330T010000
END:DAYLIGHT
BEGIN:STANDARD
TZOFFSETFROM:+0200
TZOFFSETTO:+0100
TZNAME:CET
DTSTART:20251026T010000
END:STANDARD
BEGIN:DAYLIGHT
TZOFFSETFROM:+0100
TZOFFSETTO:+0200
TZNAME:CEST
DTSTART:20260329T010000
END:DAYLIGHT
BEGIN:STANDARD
TZOFFSETFROM:+0200
TZOFFSETTO:+0100
TZNAME:CET
DTSTART:20261025T010000
END:STANDARD
END:VTIMEZONE
BEGIN:VEVENT
DTSTART;TZID=Europe/Vienna:20250306T190000
DTEND;TZID=Europe/Vienna:20250306T220000
DTSTAMP:20260423T073039
CREATED:20250212T155314Z
LAST-MODIFIED:20250212T155314Z
UID:1903-1741287600-1741298400@www.nbm.at
SUMMARY:Fastenbesinnung
DESCRIPTION:
URL:https://www.nbm.at/event/fastenbesinnung-4/
LOCATION:K.Ö.St.V. Nibelungia Melk\, Nibelungenturm\, J. Haidvogel-Gasse 6\, Melk\, 3390\, Österreich
END:VEVENT
BEGIN:VEVENT
DTSTART;TZID=Europe/Vienna:20250318T190000
DTEND;TZID=Europe/Vienna:20250318T233000
DTSTAMP:20260423T073039
CREATED:20250216T151142Z
LAST-MODIFIED:20250216T151142Z
UID:1928-1742324400-1742340600@www.nbm.at
SUMMARY:Zirkelveranstaltung: Die Organisation des öffentlichen Verkehrs in NÖ Vortrag
DESCRIPTION:
URL:https://www.nbm.at/event/zirkelveranstaltung-die-organisation-des-oeffentlichen-verkehrs-in-noe-vortrag/
LOCATION:K.Ö.St.V. Nibelungia Melk\, Nibelungenturm\, J. Haidvogel-Gasse 6\, Melk\, 3390\, Österreich
END:VEVENT
BEGIN:VEVENT
DTSTART;TZID=Europe/Vienna:20250322T183000
DTEND;TZID=Europe/Vienna:20250322T233000
DTSTAMP:20260423T073039
CREATED:20250226T130708Z
LAST-MODIFIED:20250226T130728Z
UID:1936-1742668200-1742686200@www.nbm.at
SUMMARY:P. Ansgar Zimmermann - Kneipe
DESCRIPTION:mit Landesvaterstechen
URL:https://www.nbm.at/event/p-ansgar-zimmermann-kneipe/
LOCATION:K.Ö.St.V. Nibelungia Melk\, Nibelungenturm\, J. Haidvogel-Gasse 6\, Melk\, 3390\, Österreich
END:VEVENT
BEGIN:VEVENT
DTSTART;TZID=Europe/Vienna:20250328T190000
DTEND;TZID=Europe/Vienna:20250328T233000
DTSTAMP:20260423T073039
CREATED:20250212T155608Z
LAST-MODIFIED:20250212T155608Z
UID:1907-1743188400-1743204600@www.nbm.at
SUMMARY:Bierpongturnier der Fuxia
DESCRIPTION:
URL:https://www.nbm.at/event/bierpongturnier-der-fuxia/
END:VEVENT
END:VCALENDAR