BEGIN:VCALENDAR
VERSION:2.0
PRODID:-//NBM - ECPv6.15.20//NONSGML v1.0//EN
CALSCALE:GREGORIAN
METHOD:PUBLISH
X-WR-CALNAME:NBM
X-ORIGINAL-URL:https://www.nbm.at
X-WR-CALDESC:Veranstaltungen für NBM
REFRESH-INTERVAL;VALUE=DURATION:PT1H
X-Robots-Tag:noindex
X-PUBLISHED-TTL:PT1H
BEGIN:VTIMEZONE
TZID:Europe/Vienna
BEGIN:DAYLIGHT
TZOFFSETFROM:+0100
TZOFFSETTO:+0200
TZNAME:CEST
DTSTART:20240331T010000
END:DAYLIGHT
BEGIN:STANDARD
TZOFFSETFROM:+0200
TZOFFSETTO:+0100
TZNAME:CET
DTSTART:20241027T010000
END:STANDARD
BEGIN:DAYLIGHT
TZOFFSETFROM:+0100
TZOFFSETTO:+0200
TZNAME:CEST
DTSTART:20250330T010000
END:DAYLIGHT
BEGIN:STANDARD
TZOFFSETFROM:+0200
TZOFFSETTO:+0100
TZNAME:CET
DTSTART:20251026T010000
END:STANDARD
BEGIN:DAYLIGHT
TZOFFSETFROM:+0100
TZOFFSETTO:+0200
TZNAME:CEST
DTSTART:20260329T010000
END:DAYLIGHT
BEGIN:STANDARD
TZOFFSETFROM:+0200
TZOFFSETTO:+0100
TZNAME:CET
DTSTART:20261025T010000
END:STANDARD
END:VTIMEZONE
BEGIN:VEVENT
DTSTART;TZID=Europe/Vienna:20251115T150000
DTEND;TZID=Europe/Vienna:20251115T160000
DTSTAMP:20260423T041533
CREATED:20251020T162011Z
LAST-MODIFIED:20251020T162131Z
UID:2040-1763218800-1763222400@www.nbm.at
SUMMARY:KC
DESCRIPTION:
URL:https://www.nbm.at/event/kc-4/
END:VEVENT
BEGIN:VEVENT
DTSTART;TZID=Europe/Vienna:20251115T160000
DTEND;TZID=Europe/Vienna:20251115T170000
DTSTAMP:20260423T041533
CREATED:20250715T093602Z
LAST-MODIFIED:20251020T162153Z
UID:2010-1763222400-1763226000@www.nbm.at
SUMMARY:AHC
DESCRIPTION:
URL:https://www.nbm.at/event/ahc-3/
LOCATION:Nibelungenturm
END:VEVENT
BEGIN:VEVENT
DTSTART;TZID=Europe/Vienna:20251115T170000
DTEND;TZID=Europe/Vienna:20251115T233000
DTSTAMP:20260423T041533
CREATED:20251020T162058Z
LAST-MODIFIED:20251112T181456Z
UID:2042-1763226000-1763249400@www.nbm.at
SUMMARY:Budenabend
DESCRIPTION:
URL:https://www.nbm.at/event/budenabend-6/
END:VEVENT
END:VCALENDAR