BEGIN:VCALENDAR
VERSION:2.0
PRODID:-//NBM - ECPv6.15.20//NONSGML v1.0//EN
CALSCALE:GREGORIAN
METHOD:PUBLISH
X-WR-CALNAME:NBM
X-ORIGINAL-URL:https://www.nbm.at
X-WR-CALDESC:Veranstaltungen für NBM
REFRESH-INTERVAL;VALUE=DURATION:PT1H
X-Robots-Tag:noindex
X-PUBLISHED-TTL:PT1H
BEGIN:VTIMEZONE
TZID:Europe/Vienna
BEGIN:DAYLIGHT
TZOFFSETFROM:+0100
TZOFFSETTO:+0200
TZNAME:CEST
DTSTART:20240331T010000
END:DAYLIGHT
BEGIN:STANDARD
TZOFFSETFROM:+0200
TZOFFSETTO:+0100
TZNAME:CET
DTSTART:20241027T010000
END:STANDARD
BEGIN:DAYLIGHT
TZOFFSETFROM:+0100
TZOFFSETTO:+0200
TZNAME:CEST
DTSTART:20250330T010000
END:DAYLIGHT
BEGIN:STANDARD
TZOFFSETFROM:+0200
TZOFFSETTO:+0100
TZNAME:CET
DTSTART:20251026T010000
END:STANDARD
BEGIN:DAYLIGHT
TZOFFSETFROM:+0100
TZOFFSETTO:+0200
TZNAME:CEST
DTSTART:20260329T010000
END:DAYLIGHT
BEGIN:STANDARD
TZOFFSETFROM:+0200
TZOFFSETTO:+0100
TZNAME:CET
DTSTART:20261025T010000
END:STANDARD
END:VTIMEZONE
BEGIN:VEVENT
DTSTART;TZID=Europe/Vienna:20250405T193000
DTEND;TZID=Europe/Vienna:20250405T233000
DTSTAMP:20260423T072922
CREATED:20250212T155522Z
LAST-MODIFIED:20250226T130844Z
UID:1905-1743881400-1743895800@www.nbm.at
SUMMARY:Frühlingskreuzkneipe (in Tracht)
DESCRIPTION:mit ÖCV Verbindung Floriana St. Pölten
URL:https://www.nbm.at/event/fruehlingskneipe-in-tracht/
END:VEVENT
END:VCALENDAR